BEGIN:VCALENDAR
VERSION:2.0
PRODID:-//Cabinet de Sophrologie Fribourg - ECPv6.15.20//NONSGML v1.0//EN
CALSCALE:GREGORIAN
METHOD:PUBLISH
X-ORIGINAL-URL:https://unsoufflealavie.com
X-WR-CALDESC:Évènements pour Cabinet de Sophrologie Fribourg
REFRESH-INTERVAL;VALUE=DURATION:PT1H
X-Robots-Tag:noindex
X-PUBLISHED-TTL:PT1H
BEGIN:VTIMEZONE
TZID:Europe/Zurich
BEGIN:DAYLIGHT
TZOFFSETFROM:+0100
TZOFFSETTO:+0200
TZNAME:CEST
DTSTART:20220327T010000
END:DAYLIGHT
BEGIN:STANDARD
TZOFFSETFROM:+0200
TZOFFSETTO:+0100
TZNAME:CET
DTSTART:20221030T010000
END:STANDARD
BEGIN:DAYLIGHT
TZOFFSETFROM:+0100
TZOFFSETTO:+0200
TZNAME:CEST
DTSTART:20230326T010000
END:DAYLIGHT
BEGIN:STANDARD
TZOFFSETFROM:+0200
TZOFFSETTO:+0100
TZNAME:CET
DTSTART:20231029T010000
END:STANDARD
BEGIN:DAYLIGHT
TZOFFSETFROM:+0100
TZOFFSETTO:+0200
TZNAME:CEST
DTSTART:20240331T010000
END:DAYLIGHT
BEGIN:STANDARD
TZOFFSETFROM:+0200
TZOFFSETTO:+0100
TZNAME:CET
DTSTART:20241027T010000
END:STANDARD
END:VTIMEZONE
BEGIN:VEVENT
DTSTART;TZID=Europe/Zurich:20230215T160000
DTEND;TZID=Europe/Zurich:20230215T171500
DTSTAMP:20260424T040519
CREATED:20230114T164253Z
LAST-MODIFIED:20230115T163037Z
UID:29658-1676476800-1676481300@unsoufflealavie.com
SUMMARY:Atelier sophro philo pour les enfants de 5 à 8 ans.
DESCRIPTION:Durant cet atelier\, nous aborderons la philosophie et la sophrologie d’une maniére ludique. \nGrâce à un livre que nous découvrirons\, nous développerons nos capacités d’écoute\, d’attention\, de concentration. \nNous apprendrons à penser\, émettre nos idées avec confiance. Nous cultiverons les valeurs comme la bienveillance\, le respect d’autrui\, le partage. \nPuis\, nous découvrirons la sophrologie et tous les bienfaits qu’elle peut apporter à notre monde intérieur. \n  \nNombre de participants minimum : 3 \nRéservation obligatoire\, merci de votre compréhension.
URL:https://unsoufflealavie.com/event/atelier-sophro-philo-pour-les-enfants-de-5-a-8-ans/
ORGANIZER;CN="Un Souffle %C3%A0 la Vie":MAILTO:nadia.sladek@hotmail.fr
END:VEVENT
END:VCALENDAR