BEGIN:VCALENDAR
VERSION:2.0
PRODID:-//Cabinet de Sophrologie Fribourg - ECPv6.15.20//NONSGML v1.0//EN
CALSCALE:GREGORIAN
METHOD:PUBLISH
X-ORIGINAL-URL:https://unsoufflealavie.com
X-WR-CALDESC:Évènements pour Cabinet de Sophrologie Fribourg
REFRESH-INTERVAL;VALUE=DURATION:PT1H
X-Robots-Tag:noindex
X-PUBLISHED-TTL:PT1H
BEGIN:VTIMEZONE
TZID:Europe/Zurich
BEGIN:DAYLIGHT
TZOFFSETFROM:+0100
TZOFFSETTO:+0200
TZNAME:CEST
DTSTART:20220327T010000
END:DAYLIGHT
BEGIN:STANDARD
TZOFFSETFROM:+0200
TZOFFSETTO:+0100
TZNAME:CET
DTSTART:20221030T010000
END:STANDARD
BEGIN:DAYLIGHT
TZOFFSETFROM:+0100
TZOFFSETTO:+0200
TZNAME:CEST
DTSTART:20230326T010000
END:DAYLIGHT
BEGIN:STANDARD
TZOFFSETFROM:+0200
TZOFFSETTO:+0100
TZNAME:CET
DTSTART:20231029T010000
END:STANDARD
BEGIN:DAYLIGHT
TZOFFSETFROM:+0100
TZOFFSETTO:+0200
TZNAME:CEST
DTSTART:20240331T010000
END:DAYLIGHT
BEGIN:STANDARD
TZOFFSETFROM:+0200
TZOFFSETTO:+0100
TZNAME:CET
DTSTART:20241027T010000
END:STANDARD
END:VTIMEZONE
BEGIN:VEVENT
DTSTART;TZID=Europe/Zurich:20230908T163000
DTEND;TZID=Europe/Zurich:20230908T173000
DTSTAMP:20260423T111041
CREATED:20230817T142548Z
LAST-MODIFIED:20230817T142728Z
UID:30136-1694190600-1694194200@unsoufflealavie.com
SUMMARY:Diminuer les pensées parasites
DESCRIPTION:Séance de Sophrologie en groupe : \nVendredi 8 Septembre de 16h30 à 17h30. \nTarif : 30 CHF la séance par personne. \nDurant la séance\, nous prendrons le temps d’identifier quelles sortes de pensées pouvons-nous rencontrer. \nNous découvrirons des techniques sophrologiques pour mieux apprendre à les gérer. Nous ramènerons également la présence au corps et à la respiration qui sont les bases essentielles pour vivre le quotidien d’une manière plus sereine et équilibrée\, \nUn enregistrement audio de la pratique effectuée le jour même sera à disposition. \n  \n 
URL:https://unsoufflealavie.com/event/diminuer-les-pensees-parasites/
ORGANIZER;CN="Un Souffle %C3%A0 la Vie":MAILTO:nadia.sladek@hotmail.fr
END:VEVENT
END:VCALENDAR