BEGIN:VCALENDAR
VERSION:2.0
PRODID:-//Cabinet de Sophrologie Fribourg - ECPv6.15.20//NONSGML v1.0//EN
CALSCALE:GREGORIAN
METHOD:PUBLISH
X-ORIGINAL-URL:https://unsoufflealavie.com
X-WR-CALDESC:Évènements pour Cabinet de Sophrologie Fribourg
REFRESH-INTERVAL;VALUE=DURATION:PT1H
X-Robots-Tag:noindex
X-PUBLISHED-TTL:PT1H
BEGIN:VTIMEZONE
TZID:Europe/Zurich
BEGIN:DAYLIGHT
TZOFFSETFROM:+0100
TZOFFSETTO:+0200
TZNAME:CEST
DTSTART:20230326T010000
END:DAYLIGHT
BEGIN:STANDARD
TZOFFSETFROM:+0200
TZOFFSETTO:+0100
TZNAME:CET
DTSTART:20231029T010000
END:STANDARD
BEGIN:DAYLIGHT
TZOFFSETFROM:+0100
TZOFFSETTO:+0200
TZNAME:CEST
DTSTART:20240331T010000
END:DAYLIGHT
BEGIN:STANDARD
TZOFFSETFROM:+0200
TZOFFSETTO:+0100
TZNAME:CET
DTSTART:20241027T010000
END:STANDARD
BEGIN:DAYLIGHT
TZOFFSETFROM:+0100
TZOFFSETTO:+0200
TZNAME:CEST
DTSTART:20250330T010000
END:DAYLIGHT
BEGIN:STANDARD
TZOFFSETFROM:+0200
TZOFFSETTO:+0100
TZNAME:CET
DTSTART:20251026T010000
END:STANDARD
END:VTIMEZONE
BEGIN:VEVENT
DTSTART;TZID=Europe/Zurich:20240215T170000
DTEND;TZID=Europe/Zurich:20240215T183000
DTSTAMP:20260423T014340
CREATED:20240126T141915Z
LAST-MODIFIED:20240126T141915Z
UID:30247-1708016400-1708021800@unsoufflealavie.com
SUMMARY:Mieux dormir & sophrologie
DESCRIPTION:Des cours collectifs de sophrologie caycédienne vous sont proposés pour améliorer la qualité de votre sommeil. \nVous avez des difficultés à vous endormir\, vous vous réveillez plusieurs fois durant la nuit\, vous vous réveillez fatigués sans avoir vraiment récupéré ? \nJe vous propose des séances de sophrologie qui vous aideront à retrouver un sommeil sain et récupérateur et à améliorer par là même votre santé physique et mentale. \nDes outils simples\, adaptés à vos besoins et à votre rythme de vie. \nLes séances sont ouvertes à toutes et à tous : adolescents\, adultes\, seniors. \nProchaines dates : \n\nJeudi 1er Février 2024 de 17h à 18h15\nJeudi 15 Février 2024 de 17h à 18h15\n\n…….Prochaines dates bientôt…..! \nPrix : 30 CHF la séance (les enregistrements de la pratique seront fournis ainsi que le récapitulatif de la séance). \nPour toute réservation\, vous pouvez me joindre par e-mail ou par téléphone. \nA bientôt !
URL:https://unsoufflealavie.com/event/mieux-dormir-sophrologie-2/
CATEGORIES:SOPHROLOGIE
ATTACH;FMTTYPE=image/png:https://unsoufflealavie.com/wp-content/uploads/2024/01/mieux-etre-et-sophrologie.png
ORGANIZER;CN="Un Souffle %C3%A0 la Vie":MAILTO:nadia.sladek@hotmail.fr
END:VEVENT
END:VCALENDAR