BEGIN:VCALENDAR
VERSION:2.0
PRODID:-//Cabinet de Sophrologie Fribourg - ECPv6.15.20//NONSGML v1.0//EN
CALSCALE:GREGORIAN
METHOD:PUBLISH
X-ORIGINAL-URL:https://unsoufflealavie.com
X-WR-CALDESC:Évènements pour Cabinet de Sophrologie Fribourg
REFRESH-INTERVAL;VALUE=DURATION:PT1H
X-Robots-Tag:noindex
X-PUBLISHED-TTL:PT1H
BEGIN:VTIMEZONE
TZID:Europe/Zurich
BEGIN:DAYLIGHT
TZOFFSETFROM:+0100
TZOFFSETTO:+0200
TZNAME:CEST
DTSTART:20240331T010000
END:DAYLIGHT
BEGIN:STANDARD
TZOFFSETFROM:+0200
TZOFFSETTO:+0100
TZNAME:CET
DTSTART:20241027T010000
END:STANDARD
BEGIN:DAYLIGHT
TZOFFSETFROM:+0100
TZOFFSETTO:+0200
TZNAME:CEST
DTSTART:20250330T010000
END:DAYLIGHT
BEGIN:STANDARD
TZOFFSETFROM:+0200
TZOFFSETTO:+0100
TZNAME:CET
DTSTART:20251026T010000
END:STANDARD
BEGIN:DAYLIGHT
TZOFFSETFROM:+0100
TZOFFSETTO:+0200
TZNAME:CEST
DTSTART:20260329T010000
END:DAYLIGHT
BEGIN:STANDARD
TZOFFSETFROM:+0200
TZOFFSETTO:+0100
TZNAME:CET
DTSTART:20261025T010000
END:STANDARD
END:VTIMEZONE
BEGIN:VEVENT
DTSTART;TZID=Europe/Zurich:20250118T110000
DTEND;TZID=Europe/Zurich:20250118T120000
DTSTAMP:20260423T051714
CREATED:20250111T195658Z
LAST-MODIFIED:20250120T155548Z
UID:30391-1737198000-1737201600@unsoufflealavie.com
SUMMARY:Cours de sophrologie en groupe
DESCRIPTION:Cours de sophrologie en groupe \nSamedi 18 janvier 2025 de 11h à 12h.\n\n\nOuvert à tous.\n\n\n\nTarif : 30 CHF par personne.\n\n\n\nUn temps pour soi.\n\n\n\nPour toute réservation\, vous pouvez m’envoyer un e-mail ou me contacter par téléphone.\n\n\n\nA bientôt.
URL:https://unsoufflealavie.com/event/cours-de-sophrologie-en-groupe/
CATEGORIES:SOPHROLOGIE
ATTACH;FMTTYPE=image/jpeg:https://unsoufflealavie.com/wp-content/uploads/2025/01/sophrologie-un-temps-pour-soi.jpg
END:VEVENT
END:VCALENDAR