BEGIN:VCALENDAR
VERSION:2.0
PRODID:-//Cabinet de Sophrologie Fribourg - ECPv6.15.20//NONSGML v1.0//EN
CALSCALE:GREGORIAN
METHOD:PUBLISH
X-ORIGINAL-URL:https://unsoufflealavie.com
X-WR-CALDESC:Évènements pour Cabinet de Sophrologie Fribourg
REFRESH-INTERVAL;VALUE=DURATION:PT1H
X-Robots-Tag:noindex
X-PUBLISHED-TTL:PT1H
BEGIN:VTIMEZONE
TZID:Europe/Zurich
BEGIN:DAYLIGHT
TZOFFSETFROM:+0100
TZOFFSETTO:+0200
TZNAME:CEST
DTSTART:20240331T010000
END:DAYLIGHT
BEGIN:STANDARD
TZOFFSETFROM:+0200
TZOFFSETTO:+0100
TZNAME:CET
DTSTART:20241027T010000
END:STANDARD
BEGIN:DAYLIGHT
TZOFFSETFROM:+0100
TZOFFSETTO:+0200
TZNAME:CEST
DTSTART:20250330T010000
END:DAYLIGHT
BEGIN:STANDARD
TZOFFSETFROM:+0200
TZOFFSETTO:+0100
TZNAME:CET
DTSTART:20251026T010000
END:STANDARD
BEGIN:DAYLIGHT
TZOFFSETFROM:+0100
TZOFFSETTO:+0200
TZNAME:CEST
DTSTART:20260329T010000
END:DAYLIGHT
BEGIN:STANDARD
TZOFFSETFROM:+0200
TZOFFSETTO:+0100
TZNAME:CET
DTSTART:20261025T010000
END:STANDARD
END:VTIMEZONE
BEGIN:VEVENT
DTSTART;TZID=Europe/Zurich:20250413T150000
DTEND;TZID=Europe/Zurich:20250413T160000
DTSTAMP:20260424T014000
CREATED:20250406T154603Z
LAST-MODIFIED:20250406T154942Z
UID:30572-1744556400-1744560000@unsoufflealavie.com
SUMMARY:Un moment complice en pleine nature parent-enfant.
DESCRIPTION:Venez partager une bulle de douceur avec votre enfant\, au cœur du jardin botanique de Fribourg.Une séance de sophrologie en duo parent-enfant\, pour respirer\, se détendre et se reconnecter l’un à l’autre tout en s’émerveillant de la nature autour.\n• Pour les enfants à partir de 5 à 10 ans. • En petit groupe\, dans un cadre bienveillant.• Exercices simples\, ludiques et accessibles à tous.\nQuand : Dimanche 13 Avril 2025Où : Jardin botanique de Fribourg\n\nTarif : 25 CHF par duo\nPlaces limitées — réservation par message ou par e-mail.\nUn moment tout doux à partager… au milieu des tulipes.
URL:https://unsoufflealavie.com/event/un-moment-complice-en-pleine-nature-parent-enfant/
ATTACH;FMTTYPE=image/jpeg:https://unsoufflealavie.com/wp-content/uploads/2025/04/sophrologie.jpg
ORGANIZER;CN="Un Souffle %C3%A0 la Vie":MAILTO:nadia.sladek@hotmail.fr
END:VEVENT
END:VCALENDAR