BEGIN:VCALENDAR
VERSION:2.0
PRODID:-//Cabinet de Sophrologie Fribourg - ECPv6.15.20//NONSGML v1.0//EN
CALSCALE:GREGORIAN
METHOD:PUBLISH
X-ORIGINAL-URL:https://unsoufflealavie.com
X-WR-CALDESC:Évènements pour Cabinet de Sophrologie Fribourg
REFRESH-INTERVAL;VALUE=DURATION:PT1H
X-Robots-Tag:noindex
X-PUBLISHED-TTL:PT1H
BEGIN:VTIMEZONE
TZID:Europe/Zurich
BEGIN:DAYLIGHT
TZOFFSETFROM:+0100
TZOFFSETTO:+0200
TZNAME:CEST
DTSTART:20240331T010000
END:DAYLIGHT
BEGIN:STANDARD
TZOFFSETFROM:+0200
TZOFFSETTO:+0100
TZNAME:CET
DTSTART:20241027T010000
END:STANDARD
BEGIN:DAYLIGHT
TZOFFSETFROM:+0100
TZOFFSETTO:+0200
TZNAME:CEST
DTSTART:20250330T010000
END:DAYLIGHT
BEGIN:STANDARD
TZOFFSETFROM:+0200
TZOFFSETTO:+0100
TZNAME:CET
DTSTART:20251026T010000
END:STANDARD
BEGIN:DAYLIGHT
TZOFFSETFROM:+0100
TZOFFSETTO:+0200
TZNAME:CEST
DTSTART:20260329T010000
END:DAYLIGHT
BEGIN:STANDARD
TZOFFSETFROM:+0200
TZOFFSETTO:+0100
TZNAME:CET
DTSTART:20261025T010000
END:STANDARD
END:VTIMEZONE
BEGIN:VEVENT
DTSTART;TZID=Europe/Zurich:20250712T093000
DTEND;TZID=Europe/Zurich:20250712T103000
DTSTAMP:20260424T051238
CREATED:20250707T161658Z
LAST-MODIFIED:20250707T161658Z
UID:30582-1752312600-1752316200@unsoufflealavie.com
SUMMARY:Sophrologie ludique pour enfants
DESCRIPTION:Coucou les enfants\,\nCoucou les parents\, \n\n\nPartage\, écoute\, bienveillance\, sourires\, joie\, seront les maîtres mots. \n\n\nPour tout renseignement concernant l’atelier et pour inscrire votre enfant\, vous pouvez me joindre au 079.194.96.49.\n\n\n ATELIER DE SOPHROLOGIE LUDIQUE POUR ENFANTS \n\n\nPour les enfants de 6 à 10 ans.\n\n\n Jeux de respiration • Détente • Confiance en soi • Visualisations \n\n\n Samedis 12\, 19\, 26 juillet de 9h30 à 10h30.\n\n\n Rue du Botzet 2\, 1700 Fribourg. ( La séance aura lieu en pleine nature\, près du cabinet ).\n\n\n Durée : 1h\n\n\n Tarif : 15 CHF\n\n\nApporter une gourde d’eau\n\n\n Infos & inscriptions : Nadia Sladek – 079 194 96 49\n www.unsoufflealavie.com\n\n\nUne bulle de calme pour les enfants… en s’amusant !
URL:https://unsoufflealavie.com/event/sophrologie-ludique-pour-enfants/
CATEGORIES:SOPHROLOGIE
ATTACH;FMTTYPE=image/jpeg:https://unsoufflealavie.com/wp-content/uploads/2025/07/sophrologie-image.jpg
ORGANIZER;CN="Un Souffle %C3%A0 la Vie":MAILTO:nadia.sladek@hotmail.fr
END:VEVENT
END:VCALENDAR