BEGIN:VCALENDAR
VERSION:2.0
PRODID:-//Cabinet de Sophrologie Fribourg - ECPv6.15.20//NONSGML v1.0//EN
CALSCALE:GREGORIAN
METHOD:PUBLISH
X-WR-CALNAME:Cabinet de Sophrologie Fribourg
X-ORIGINAL-URL:https://unsoufflealavie.com
X-WR-CALDESC:Évènements pour Cabinet de Sophrologie Fribourg
REFRESH-INTERVAL;VALUE=DURATION:PT1H
X-Robots-Tag:noindex
X-PUBLISHED-TTL:PT1H
BEGIN:VTIMEZONE
TZID:Europe/Zurich
BEGIN:DAYLIGHT
TZOFFSETFROM:+0100
TZOFFSETTO:+0200
TZNAME:CEST
DTSTART:20240331T010000
END:DAYLIGHT
BEGIN:STANDARD
TZOFFSETFROM:+0200
TZOFFSETTO:+0100
TZNAME:CET
DTSTART:20241027T010000
END:STANDARD
BEGIN:DAYLIGHT
TZOFFSETFROM:+0100
TZOFFSETTO:+0200
TZNAME:CEST
DTSTART:20250330T010000
END:DAYLIGHT
BEGIN:STANDARD
TZOFFSETFROM:+0200
TZOFFSETTO:+0100
TZNAME:CET
DTSTART:20251026T010000
END:STANDARD
BEGIN:DAYLIGHT
TZOFFSETFROM:+0100
TZOFFSETTO:+0200
TZNAME:CEST
DTSTART:20260329T010000
END:DAYLIGHT
BEGIN:STANDARD
TZOFFSETFROM:+0200
TZOFFSETTO:+0100
TZNAME:CET
DTSTART:20261025T010000
END:STANDARD
END:VTIMEZONE
BEGIN:VEVENT
DTSTART;TZID=Europe/Zurich:20251115T110000
DTEND;TZID=Europe/Zurich:20251115T120000
DTSTAMP:20260424T113637
CREATED:20251101T142137Z
LAST-MODIFIED:20251108T195734Z
UID:30748-1763204400-1763208000@unsoufflealavie.com
SUMMARY:Cours de sophrologie Seniors
DESCRIPTION:Cours de sophrologie Seniors :\n\n\n\nSamedis 15\, 22\, 29 Novembre 2025 de 11h à 12h.\n\n\nNous découvrirons des outils pour mieux vivre le quotidien : stress\, fatigue\, douleurs et amélioration de la qualité de notre sommeil.\n\n\nDes pratiques simples\, facile à refaire dans notre journée seront travaillées.\n\n\nJe me réjouis de vous rencontrer et de passer ce moment avec vous.\n\n\nPour vous inscrire\, vous pouvez prendre contact avec moi par téléphone\, e-mail\, whatsapp.\n\n\n\nLes séances se dérouleront à mon Cabinet\, Rue du Botzet 2\, 1700 Fribourg.\n\n\nTarif :\n\n\n-30 CHF la séance\n-80 CHF les 3 séances.\n\n\n\nPlaces limitées.\n\n\nÀ très bientôt ! \n\n\nSophrologie & Un Souffle à la Vie\n\n\nwww.unsoufflealavie.com
URL:https://unsoufflealavie.com/event/cours-de-sophrologie-seniors/
ATTACH;FMTTYPE=image/jpeg:https://unsoufflealavie.com/wp-content/uploads/2025/11/atelier-seniors.jpg
ORGANIZER;CN="Un Souffle %C3%A0 la Vie":MAILTO:nadia.sladek@hotmail.fr
END:VEVENT
END:VCALENDAR