BEGIN:VCALENDAR
VERSION:2.0
PRODID:-//Cabinet de Sophrologie Fribourg - ECPv6.15.20//NONSGML v1.0//EN
CALSCALE:GREGORIAN
METHOD:PUBLISH
X-WR-CALNAME:Cabinet de Sophrologie Fribourg
X-ORIGINAL-URL:https://unsoufflealavie.com
X-WR-CALDESC:Évènements pour Cabinet de Sophrologie Fribourg
REFRESH-INTERVAL;VALUE=DURATION:PT1H
X-Robots-Tag:noindex
X-PUBLISHED-TTL:PT1H
BEGIN:VTIMEZONE
TZID:Europe/Zurich
BEGIN:DAYLIGHT
TZOFFSETFROM:+0100
TZOFFSETTO:+0200
TZNAME:CEST
DTSTART:20240331T010000
END:DAYLIGHT
BEGIN:STANDARD
TZOFFSETFROM:+0200
TZOFFSETTO:+0100
TZNAME:CET
DTSTART:20241027T010000
END:STANDARD
BEGIN:DAYLIGHT
TZOFFSETFROM:+0100
TZOFFSETTO:+0200
TZNAME:CEST
DTSTART:20250330T010000
END:DAYLIGHT
BEGIN:STANDARD
TZOFFSETFROM:+0200
TZOFFSETTO:+0100
TZNAME:CET
DTSTART:20251026T010000
END:STANDARD
BEGIN:DAYLIGHT
TZOFFSETFROM:+0100
TZOFFSETTO:+0200
TZNAME:CEST
DTSTART:20260329T010000
END:DAYLIGHT
BEGIN:STANDARD
TZOFFSETFROM:+0200
TZOFFSETTO:+0100
TZNAME:CET
DTSTART:20261025T010000
END:STANDARD
END:VTIMEZONE
BEGIN:VEVENT
DTSTART;TZID=Europe/Zurich:20251220T100000
DTEND;TZID=Europe/Zurich:20251220T110000
DTSTAMP:20260422T150312
CREATED:20251213T161912Z
LAST-MODIFIED:20251213T161912Z
UID:30811-1766224800-1766228400@unsoufflealavie.com
SUMMARY:Cours de Sophrologie en groupe Samedis matins
DESCRIPTION:📅 Rendez-vous mensuels : Samedis matins de 10 h à 11 h : \nMerci d’arriver 15 min avant le début de la séance afin de vous installez tranquillement. \n\nLes séances sont accessibles à toutes et à tous et peuvent être rejointes à tout moment.\n\n\nDurant ces séances\, nous travaillons sur la respiration\, la prise de conscience du corps\, des exercices de tensions et de relâchement corporels.\n\n\nNous abordons également des relaxations dynamiques accessibles à toutes et à tous permetttant de mettre le corps en mouvement et ainsi de le détendre.\n\n\nN’hésitez pas à venir découvrir une séance afin d’acquérir de nombreux bienfaits. \n\nLe tarif de la séance de sophrologie caycédienne en groupe est de 30 CHF\, payable par twint ou en cash. Les inscriptions sont obligatoires. \nSamedi 20 décembre 2025 \nSamedi 10 janvier 2026 \nSamedi 21 février 2026 \nSamedi 14 mars 2026 \nSamedi 4 avril 2026 \nPrenez un temps pour vous et explorez les bienfaits d’une pratique douce et accessible à tous.
URL:https://unsoufflealavie.com/event/cours-de-sophrologie-en-groupe-samedis-matins/
CATEGORIES:SOPHROLOGIE
ATTACH;FMTTYPE=image/jpeg:https://unsoufflealavie.com/wp-content/uploads/2025/12/sophrologie-cours-samedis-matins.jpg
ORGANIZER;CN="Un Souffle %C3%A0 la Vie":MAILTO:nadia.sladek@hotmail.fr
END:VEVENT
END:VCALENDAR