BEGIN:VCALENDAR
VERSION:2.0
PRODID:-//Cabinet de Sophrologie Fribourg - ECPv6.15.20//NONSGML v1.0//EN
CALSCALE:GREGORIAN
METHOD:PUBLISH
X-ORIGINAL-URL:https://unsoufflealavie.com
X-WR-CALDESC:Évènements pour Cabinet de Sophrologie Fribourg
REFRESH-INTERVAL;VALUE=DURATION:PT1H
X-Robots-Tag:noindex
X-PUBLISHED-TTL:PT1H
BEGIN:VTIMEZONE
TZID:Europe/Zurich
BEGIN:DAYLIGHT
TZOFFSETFROM:+0100
TZOFFSETTO:+0200
TZNAME:CEST
DTSTART:20220327T010000
END:DAYLIGHT
BEGIN:STANDARD
TZOFFSETFROM:+0200
TZOFFSETTO:+0100
TZNAME:CET
DTSTART:20221030T010000
END:STANDARD
BEGIN:DAYLIGHT
TZOFFSETFROM:+0100
TZOFFSETTO:+0200
TZNAME:CEST
DTSTART:20230326T010000
END:DAYLIGHT
BEGIN:STANDARD
TZOFFSETFROM:+0200
TZOFFSETTO:+0100
TZNAME:CET
DTSTART:20231029T010000
END:STANDARD
BEGIN:DAYLIGHT
TZOFFSETFROM:+0100
TZOFFSETTO:+0200
TZNAME:CEST
DTSTART:20240331T010000
END:DAYLIGHT
BEGIN:STANDARD
TZOFFSETFROM:+0200
TZOFFSETTO:+0100
TZNAME:CET
DTSTART:20241027T010000
END:STANDARD
END:VTIMEZONE
BEGIN:VEVENT
DTSTART;TZID=Europe/Zurich:20230302T180000
DTEND;TZID=Europe/Zurich:20230426T191500
DTSTAMP:20260423T221956
CREATED:20230114T170911Z
LAST-MODIFIED:20230227T134821Z
UID:29667-1677780000-1682536500@unsoufflealavie.com
SUMMARY:Programme MIEUX-ETRE
DESCRIPTION:Programme MIEUX-ETRE pour la gestion du stress personnel et professionnel : 2 Mars – 27 Avril 2023 \n\nLes Jeudis  2\, 16\, 30 Mars 2023\nLes Jeudis  6\, 27 Avril 2023\n\n\nTarif des 6 séances : 210 CHF     (Toute séance annulée ne sera pas remboursée).\n\n\nNombre minimum de participants : 2\n\nAu fur et à mesure des séances\, nous aborderons différents thèmes ainsi que diverses techniques afin de mieux gérer les agents stresseurs du quotidien.\nNous travaillerons également sur la phénodescription et l’analyse vivantielle \, éléments clés pour le dévoilement de la conscience.\n\nAu fur et à mesure de nos séances\, vous découvrirez une nouvelle relation avec votre corps\, votre esprit\, vos émotions ; vous comprendrez les bienfaits de la détente et de la relaxation ; vous apprendrez à développer le positif pour vivre plus sereinement le futur et le passé.\n\nLa simplicité de la Méthode \, son orientation vous amènera vers des résultats concrets et l’objectif de vous donner les outils pour acquérir une autonomie dans la pratique de la Sophrologie Caycédienne.\n\n\nN’hésitez pas à vous inscrire.\n\nPour la séance\, vous pouvez vous munir d’un cahier et d’un crayon pour votre phénodescription.
URL:https://unsoufflealavie.com/event/programme-mieux-etre/
ORGANIZER;CN="Un Souffle %C3%A0 la Vie":MAILTO:nadia.sladek@hotmail.fr
END:VEVENT
BEGIN:VEVENT
DTSTART;TZID=Europe/Zurich:20230309T160000
DTEND;TZID=Europe/Zurich:20230309T170000
DTSTAMP:20260423T221956
CREATED:20230114T171141Z
LAST-MODIFIED:20230228T142914Z
UID:29669-1678377600-1678381200@unsoufflealavie.com
SUMMARY:Sophrologie pour enfants de 5 à 8 ans
DESCRIPTION:Sophrologie pour les enfants de 5 à 8 ans :\n\nBonjour les enfants\,\n\nDurant cette séance\, nous prendrons le temps de nous étirer\, de bailler comme des petits chats.\n\nNous prendrons le temps de nous relaxer\, de nous détendre en étant attentif à toutes nos sensations.\n\nNous déploierons nos supers pouvoirs d’attention et de concentration qui sont à l’intérieur de chacun d’entre nous !\n\nTarif : 20 CHF\n\nPlaces limitées.\n\nPour toute réservation ou demande de renseignements\, n’hésitez pas à me contacter.\n\nA bientôt !
URL:https://unsoufflealavie.com/event/sophrologie-pour-enfants-de-5-a-8-ans/
ORGANIZER;CN="Un Souffle %C3%A0 la Vie":MAILTO:nadia.sladek@hotmail.fr
END:VEVENT
BEGIN:VEVENT
DTSTART;TZID=Europe/Zurich:20230316T180000
DTEND;TZID=Europe/Zurich:20230316T191500
DTSTAMP:20260423T221956
CREATED:20230227T133924Z
LAST-MODIFIED:20230227T133958Z
UID:29858-1678989600-1678994100@unsoufflealavie.com
SUMMARY:Programme MIEUX-ETRE
DESCRIPTION:Programme MIEUX-ETRE pour la gestion du stress personnel et professionnel : 2 Mars – 26 Avril 2023 \n\nLes Jeudis  2\, 16\, 30 Mars 2023\nLes Jeudis  6\, 27 Avril 2023\n\n\nTarif des 6 séances : 210 CHF     (Toute séance annulée ne sera pas remboursée).\n\n\nNombre minimum de participants : 2\n\nAu fur et à mesure des séances\, nous aborderons différents thèmes ainsi que diverses techniques afin de mieux gérer les agents stresseurs du quotidien.\nNous travaillerons également sur la phénodescription et l’analyse vivantielle \, éléments clés pour le dévoilement de la conscience.\n\nAu fur et à mesure de nos séances\, vous découvrirez une nouvelle relation avec votre corps\, votre esprit\, vos émotions ; vous comprendrez les bienfaits de la détente et de la relaxation ; vous apprendrez à développer le positif pour vivre plus sereinement le futur et le passé.\n\nLa simplicité de la Méthode \, son orientation vous amènera vers des résultats concrets et l’objectif de vous donner les outils pour acquérir une autonomie dans la pratique de la Sophrologie Caycédienne.\n\n\nN’hésitez pas à vous inscrire.\n\nPour la séance\, vous pouvez vous munir d’un cahier et d’un crayon pour votre phénodescription.
URL:https://unsoufflealavie.com/event/29858/
ORGANIZER;CN="Un Souffle %C3%A0 la Vie":MAILTO:nadia.sladek@hotmail.fr
END:VEVENT
BEGIN:VEVENT
DTSTART;TZID=Europe/Zurich:20230324T161500
DTEND;TZID=Europe/Zurich:20230324T171500
DTSTAMP:20260423T221956
CREATED:20230315T140337Z
LAST-MODIFIED:20230315T140337Z
UID:29893-1679674500-1679678100@unsoufflealavie.com
SUMMARY:Sophrologie & Troubles alimentaires
DESCRIPTION:Sophrologie & Troubles alimentaires : \nSéance de sophrologie caycédienne gratuite Vendredi 23 Mars 2023 de 16h15 à 17h15 pour les personnes concernées de près ou de loin par les troubles alimentaires. \nVous pourrez ainsi connaître les bienfaits de cette méthode et expérimenter cette pratique. \nAfin de faciliter la séance en un petit groupe\, je vous invite à me contacter pour toute réservation. \nMaximum de personnes : 4 \n  \nAu plaisir de vous accueillir.
URL:https://unsoufflealavie.com/event/sophrologie-troubles-alimentaires/
ORGANIZER;CN="Un Souffle %C3%A0 la Vie":MAILTO:nadia.sladek@hotmail.fr
END:VEVENT
BEGIN:VEVENT
DTSTART;TZID=Europe/Zurich:20230330T180000
DTEND;TZID=Europe/Zurich:20230330T191500
DTSTAMP:20260423T221956
CREATED:20230227T134205Z
LAST-MODIFIED:20230227T134205Z
UID:29861-1680199200-1680203700@unsoufflealavie.com
SUMMARY:PROGRAMME MIEUX-ETRE
DESCRIPTION:Programme MIEUX-ETRE pour la gestion du stress personnel et professionnel : 2 Mars – 26 Avril 2023 \n\nLes Jeudis  2\, 16\, 30 Mars 2023\nLes Jeudis  6\, 27 Avril 2023\n\n\nTarif des 6 séances : 210 CHF     (Toute séance annulée ne sera pas remboursée).\n\n\nNombre minimum de participants : 2\n\nAu fur et à mesure des séances\, nous aborderons différents thèmes ainsi que diverses techniques afin de mieux gérer les agents stresseurs du quotidien.\nNous travaillerons également sur la phénodescription et l’analyse vivantielle \, éléments clés pour le dévoilement de la conscience.\n\nAu fur et à mesure de nos séances\, vous découvrirez une nouvelle relation avec votre corps\, votre esprit\, vos émotions ; vous comprendrez les bienfaits de la détente et de la relaxation ; vous apprendrez à développer le positif pour vivre plus sereinement le futur et le passé.\n\nLa simplicité de la Méthode \, son orientation vous amènera vers des résultats concrets et l’objectif de vous donner les outils pour acquérir une autonomie dans la pratique de la Sophrologie Caycédienne.\n\n\nN’hésitez pas à vous inscrire.\n\nPour la séance\, vous pouvez vous munir d’un cahier et d’un crayon pour votre phénodescription.
URL:https://unsoufflealavie.com/event/programme-mieux-etre-2/
ORGANIZER;CN="Un Souffle %C3%A0 la Vie":MAILTO:nadia.sladek@hotmail.fr
END:VEVENT
END:VCALENDAR