BEGIN:VCALENDAR
VERSION:2.0
PRODID:-//Cabinet de Sophrologie Fribourg - ECPv6.15.20//NONSGML v1.0//EN
CALSCALE:GREGORIAN
METHOD:PUBLISH
X-ORIGINAL-URL:https://unsoufflealavie.com
X-WR-CALDESC:Évènements pour Cabinet de Sophrologie Fribourg
REFRESH-INTERVAL;VALUE=DURATION:PT1H
X-Robots-Tag:noindex
X-PUBLISHED-TTL:PT1H
BEGIN:VTIMEZONE
TZID:Europe/Zurich
BEGIN:DAYLIGHT
TZOFFSETFROM:+0100
TZOFFSETTO:+0200
TZNAME:CEST
DTSTART:20220327T010000
END:DAYLIGHT
BEGIN:STANDARD
TZOFFSETFROM:+0200
TZOFFSETTO:+0100
TZNAME:CET
DTSTART:20221030T010000
END:STANDARD
BEGIN:DAYLIGHT
TZOFFSETFROM:+0100
TZOFFSETTO:+0200
TZNAME:CEST
DTSTART:20230326T010000
END:DAYLIGHT
BEGIN:STANDARD
TZOFFSETFROM:+0200
TZOFFSETTO:+0100
TZNAME:CET
DTSTART:20231029T010000
END:STANDARD
BEGIN:DAYLIGHT
TZOFFSETFROM:+0100
TZOFFSETTO:+0200
TZNAME:CEST
DTSTART:20240331T010000
END:DAYLIGHT
BEGIN:STANDARD
TZOFFSETFROM:+0200
TZOFFSETTO:+0100
TZNAME:CET
DTSTART:20241027T010000
END:STANDARD
END:VTIMEZONE
BEGIN:VEVENT
DTSTART;TZID=Europe/Zurich:20230608T164500
DTEND;TZID=Europe/Zurich:20230608T174500
DTSTAMP:20260423T142950
CREATED:20230509T123029Z
LAST-MODIFIED:20230509T123029Z
UID:30096-1686242700-1686246300@unsoufflealavie.com
SUMMARY:SOPHROLOGIE ENTRAINEMENT
DESCRIPTION:Cours de sophrologie en groupe : \nJeudi après-midi de 16h45 à 17h45 : Diminuer les penser parasites. \nPour les tarifs\, Voir infos « rubrique sophrologie en groupe » .
URL:https://unsoufflealavie.com/event/sophrologie-entrainement-2/
ORGANIZER;CN="Un Souffle %C3%A0 la Vie":MAILTO:nadia.sladek@hotmail.fr
END:VEVENT
BEGIN:VEVENT
DTSTART;TZID=Europe/Zurich:20230622T164500
DTEND;TZID=Europe/Zurich:20230622T174500
DTSTAMP:20260423T142950
CREATED:20230509T123200Z
LAST-MODIFIED:20230509T123502Z
UID:30098-1687452300-1687455900@unsoufflealavie.com
SUMMARY:SOPHROLOGIE ENTRAINEMENT
DESCRIPTION:Cours de sophrologie en groupe : \nJeudi après-midi de 16h45 à 17h45 : Stimuler sa confiance en soi et en la Vie. \nPour les tarifs\, Voir infos « rubrique sophrologie en groupe » .
URL:https://unsoufflealavie.com/event/sophrologie-entrainement-3/
ORGANIZER;CN="Un Souffle %C3%A0 la Vie":MAILTO:nadia.sladek@hotmail.fr
END:VEVENT
BEGIN:VEVENT
DTSTART;TZID=Europe/Zurich:20230625T100000
DTEND;TZID=Europe/Zurich:20230625T111500
DTSTAMP:20260423T142950
CREATED:20230608T044020Z
LAST-MODIFIED:20230608T050437Z
UID:30127-1687687200-1687691700@unsoufflealavie.com
SUMMARY:Séance de Sophrologie au Jardin Botanique de Fribourg
DESCRIPTION:Bonjour à toutes et à tous\, \nJe vous convie Dimanche 25 Juin 2023 pour une séance de Sophrologie au Jardin Botanique de Fribourg. \nLa Sophrologie Caycédienne\, créée par le neuropsychaitre Alfonso Caycedo est un ensemble de techniques permettant de se détendre\, de mieux respirer\, d’évacuer toutes les tensions du quotidien et de ramener les valeurs positives essentielles pour vivre une vie sereine et épanouie. \nJe reste à votre écoute pour tout renseignement complémentaire et je vous dis à très bientôt. \nSophrologie & Un Souffle à la Vie
URL:https://unsoufflealavie.com/event/seance-de-sophrologie-au-jardin-botanique-de-fribourg/
ATTACH;FMTTYPE=image/png:https://unsoufflealavie.com/wp-content/uploads/2023/06/thumbnail_Canva-Design.png
ORGANIZER;CN="Un Souffle %C3%A0 la Vie":MAILTO:nadia.sladek@hotmail.fr
END:VEVENT
END:VCALENDAR