BEGIN:VCALENDAR
VERSION:2.0
PRODID:-//Cabinet de Sophrologie Fribourg - ECPv6.15.20//NONSGML v1.0//EN
CALSCALE:GREGORIAN
METHOD:PUBLISH
X-ORIGINAL-URL:https://unsoufflealavie.com
X-WR-CALDESC:Évènements pour Cabinet de Sophrologie Fribourg
REFRESH-INTERVAL;VALUE=DURATION:PT1H
X-Robots-Tag:noindex
X-PUBLISHED-TTL:PT1H
BEGIN:VTIMEZONE
TZID:Europe/Zurich
BEGIN:DAYLIGHT
TZOFFSETFROM:+0100
TZOFFSETTO:+0200
TZNAME:CEST
DTSTART:20220327T010000
END:DAYLIGHT
BEGIN:STANDARD
TZOFFSETFROM:+0200
TZOFFSETTO:+0100
TZNAME:CET
DTSTART:20221030T010000
END:STANDARD
BEGIN:DAYLIGHT
TZOFFSETFROM:+0100
TZOFFSETTO:+0200
TZNAME:CEST
DTSTART:20230326T010000
END:DAYLIGHT
BEGIN:STANDARD
TZOFFSETFROM:+0200
TZOFFSETTO:+0100
TZNAME:CET
DTSTART:20231029T010000
END:STANDARD
BEGIN:DAYLIGHT
TZOFFSETFROM:+0100
TZOFFSETTO:+0200
TZNAME:CEST
DTSTART:20240331T010000
END:DAYLIGHT
BEGIN:STANDARD
TZOFFSETFROM:+0200
TZOFFSETTO:+0100
TZNAME:CET
DTSTART:20241027T010000
END:STANDARD
END:VTIMEZONE
BEGIN:VEVENT
DTSTART;TZID=Europe/Zurich:20230706T164500
DTEND;TZID=Europe/Zurich:20230706T174500
DTSTAMP:20260423T123717
CREATED:20230509T123401Z
LAST-MODIFIED:20230509T123401Z
UID:30100-1688661900-1688665500@unsoufflealavie.com
SUMMARY:SOPHROLOGIE ENTRAINEMENT
DESCRIPTION:Cours de sophrologie en groupe : \nJeudi après-midi de 16h45 à 17h45 : Apprendre à bien gérer son temps. \nPour les tarifs\, Voir infos « rubrique sophrologie en groupe » .
URL:https://unsoufflealavie.com/event/sophrologie-entrainement-4/
ORGANIZER;CN="Un Souffle %C3%A0 la Vie":MAILTO:nadia.sladek@hotmail.fr
END:VEVENT
END:VCALENDAR