BEGIN:VCALENDAR
VERSION:2.0
PRODID:-//Cabinet de Sophrologie Fribourg - ECPv6.15.20//NONSGML v1.0//EN
CALSCALE:GREGORIAN
METHOD:PUBLISH
X-ORIGINAL-URL:https://unsoufflealavie.com
X-WR-CALDESC:Évènements pour Cabinet de Sophrologie Fribourg
REFRESH-INTERVAL;VALUE=DURATION:PT1H
X-Robots-Tag:noindex
X-PUBLISHED-TTL:PT1H
BEGIN:VTIMEZONE
TZID:Europe/Zurich
BEGIN:DAYLIGHT
TZOFFSETFROM:+0100
TZOFFSETTO:+0200
TZNAME:CEST
DTSTART:20220327T010000
END:DAYLIGHT
BEGIN:STANDARD
TZOFFSETFROM:+0200
TZOFFSETTO:+0100
TZNAME:CET
DTSTART:20221030T010000
END:STANDARD
BEGIN:DAYLIGHT
TZOFFSETFROM:+0100
TZOFFSETTO:+0200
TZNAME:CEST
DTSTART:20230326T010000
END:DAYLIGHT
BEGIN:STANDARD
TZOFFSETFROM:+0200
TZOFFSETTO:+0100
TZNAME:CET
DTSTART:20231029T010000
END:STANDARD
BEGIN:DAYLIGHT
TZOFFSETFROM:+0100
TZOFFSETTO:+0200
TZNAME:CEST
DTSTART:20240331T010000
END:DAYLIGHT
BEGIN:STANDARD
TZOFFSETFROM:+0200
TZOFFSETTO:+0100
TZNAME:CET
DTSTART:20241027T010000
END:STANDARD
END:VTIMEZONE
BEGIN:VEVENT
DTSTART;TZID=Europe/Zurich:20231214T160000
DTEND;TZID=Europe/Zurich:20231214T170000
DTSTAMP:20260423T033440
CREATED:20231125T160550Z
LAST-MODIFIED:20231125T160803Z
UID:30234-1702569600-1702573200@unsoufflealavie.com
SUMMARY:Ateliers pour les enfants : les émotions\, à quoi ca sert ?
DESCRIPTION:Durant cet atelier de sophrologie\, nous aborderons les émotions. \nLesquelles sont-elles ? A quoi servent-elles ? Comment pouvons nous les identifier ? Comment pouvons-nous en prendre soin ? \nSous forme de jeux\, nous apprendrons à découvrir cet arc-en-ciel de couleurs qui fait parti de notre vie ! \nDate : Jeudi 14 Décembre 2023 de 16h00 à 17h00\nÂge : de 3 ans à 7 ans \nPrix : 20 CHF \nLieu : à mon Cabinet\, rue du Botzet 2\, 1700 Fribourg \nPour toute réservation\, n’hésitez pas à prendre contact avec moi 48 heures avant le jour de la séance. \nJe vous remercie de votre compréhension. \nA bientôt ! \n#sophrologie #enfant #émotions #bienêtre
URL:https://unsoufflealavie.com/event/ateliers-pour-les-enfants-les-emotions-a-quoi-ca-sert/
CATEGORIES:SOPHROLOGIE
ATTACH;FMTTYPE=image/jpeg:https://unsoufflealavie.com/wp-content/uploads/2023/11/thumbnail_Attachment-1-1.jpg
END:VEVENT
END:VCALENDAR